Package: msa Version: 1.42.0 Command: /Library/Frameworks/R.framework/Resources/bin/R CMD INSTALL msa StartedAt: 2025-11-10 15:09:59 -0500 (Mon, 10 Nov 2025) EndedAt: 2025-11-10 15:11:41 -0500 (Mon, 10 Nov 2025) EllapsedTime: 101.7 seconds RetCode: 0 Status: OK