Package: msa Version: 1.42.0 Command: /Library/Frameworks/R.framework/Resources/bin/R CMD build --keep-empty-dirs --no-resave-data msa StartedAt: 2025-11-10 17:07:53 -0500 (Mon, 10 Nov 2025) EndedAt: 2025-11-10 17:09:52 -0500 (Mon, 10 Nov 2025) EllapsedTime: 119.4 seconds RetCode: 0 Status: OK PackageFile: msa_1.42.0.tar.gz PackageFileSize: 3.912 MiB