Package: msa Version: 1.42.0 Command: rm -rf msa.buildbin-libdir && mkdir msa.buildbin-libdir && /Users/biocbuild/BBS/utils/build-universal.sh msa_1.42.0.tar.gz /Library/Frameworks/R.framework/Resources/bin/R msa.buildbin-libdir StartedAt: 2025-11-10 23:28:11 -0500 (Mon, 10 Nov 2025) EndedAt: 2025-11-10 23:30:03 -0500 (Mon, 10 Nov 2025) EllapsedTime: 112.4 seconds RetCode: 0 Status: OK PackageFile: msa_1.42.0.tgz PackageFileSize: 1.703 MiB