Package: msPurity Version: 1.34.0 Command: /home/biocbuild/R/R/bin/R CMD build --keep-empty-dirs --no-resave-data msPurity StartedAt: 2025-10-14 02:51:44 -0000 (Tue, 14 Oct 2025) EndedAt: 2025-10-14 03:04:33 -0000 (Tue, 14 Oct 2025) EllapsedTime: 769.5 seconds RetCode: 0 Status: OK PackageFile: msPurity_1.34.0.tar.gz PackageFileSize: 11.48 MiB