Package: msPurity Version: 1.36.0 Command: /Library/Frameworks/R.framework/Resources/bin/R CMD build --keep-empty-dirs --no-resave-data msPurity StartedAt: 2025-10-30 17:08:40 -0400 (Thu, 30 Oct 2025) EndedAt: 2025-10-30 17:11:43 -0400 (Thu, 30 Oct 2025) EllapsedTime: 183.1 seconds RetCode: 0 Status: OK PackageFile: msPurity_1.36.0.tar.gz PackageFileSize: 11.29 MiB