Package: mpra Version: 1.32.0 Command: /home/biocbuild/bbs-3.22-bioc/R/bin/R CMD build --keep-empty-dirs --no-resave-data --md5 mpra StartedAt: 2025-11-11 18:56:51 -0500 (Tue, 11 Nov 2025) EndedAt: 2025-11-11 18:57:40 -0500 (Tue, 11 Nov 2025) EllapsedTime: 49.0 seconds RetCode: 0 Status: OK PackageFile: mpra_1.32.0.tar.gz PackageFileSize: 3.08 MiB