Package: mpra Version: 1.30.1 Command: /home/biocbuild/R/R/bin/R CMD INSTALL mpra StartedAt: 2025-10-13 20:30:59 -0000 (Mon, 13 Oct 2025) EndedAt: 2025-10-13 20:31:32 -0000 (Mon, 13 Oct 2025) EllapsedTime: 33.5 seconds RetCode: 0 Status: OK