Package: mpra Version: 1.30.1 Command: /home/biocbuild/R/R/bin/R CMD build --keep-empty-dirs --no-resave-data mpra StartedAt: 2025-10-14 02:47:02 -0000 (Tue, 14 Oct 2025) EndedAt: 2025-10-14 02:48:14 -0000 (Tue, 14 Oct 2025) EllapsedTime: 72.0 seconds RetCode: 0 Status: OK PackageFile: mpra_1.30.1.tar.gz PackageFileSize: 3.096 MiB