Package: mpra Version: 1.30.0 Command: rm -rf mpra.buildbin-libdir && mkdir mpra.buildbin-libdir && /Users/biocbuild/BBS/utils/build-universal.sh mpra_1.30.0.tar.gz /Library/Frameworks/R.framework/Resources/bin/R mpra.buildbin-libdir StartedAt: 2025-04-21 22:43:21 -0400 (Mon, 21 Apr 2025) EndedAt: 2025-04-21 22:43:33 -0400 (Mon, 21 Apr 2025) EllapsedTime: 11.2 seconds RetCode: 0 Status: OK PackageFile: mpra_1.30.0.tgz PackageFileSize: 3.552 MiB