Package: motifmatchr Version: 1.32.0 Command: /home/biocbuild/bbs-3.22-bioc/R/bin/R CMD INSTALL motifmatchr StartedAt: 2025-11-11 15:55:54 -0500 (Tue, 11 Nov 2025) EndedAt: 2025-11-11 15:56:58 -0500 (Tue, 11 Nov 2025) EllapsedTime: 64.1 seconds RetCode: 0 Status: OK