Package: motifmatchr Version: 1.32.0 Command: /home/biocbuild/bbs-3.22-bioc/R/bin/R CMD build --keep-empty-dirs --no-resave-data --md5 motifmatchr StartedAt: 2025-11-13 18:53:52 -0500 (Thu, 13 Nov 2025) EndedAt: 2025-11-13 18:55:43 -0500 (Thu, 13 Nov 2025) EllapsedTime: 111.1 seconds RetCode: 0 Status: OK PackageFile: motifmatchr_1.32.0.tar.gz PackageFileSize: 53.29 KiB