Package: motifmatchr Version: 1.32.0 Command: /Library/Frameworks/R.framework/Resources/bin/R CMD INSTALL motifmatchr StartedAt: 2025-11-10 15:27:04 -0500 (Mon, 10 Nov 2025) EndedAt: 2025-11-10 15:27:24 -0500 (Mon, 10 Nov 2025) EllapsedTime: 20.7 seconds RetCode: 0 Status: OK