Back to Multiple platform build/check report for BioC 3.22:   simplified   long
ABCDEFGHIJKL[M]NOPQRSTUVWXYZ

This page was generated on 2025-10-31 12:02 -0400 (Fri, 31 Oct 2025).

HostnameOSArch (*)R versionInstalled pkgs
nebbiolo2Linux (Ubuntu 24.04.3 LTS)x86_644.5.1 Patched (2025-08-23 r88802) -- "Great Square Root" 4901
lconwaymacOS 12.7.6 Montereyx86_644.5.1 Patched (2025-09-10 r88807) -- "Great Square Root" 4691
kjohnson3macOS 13.7.7 Venturaarm644.5.1 Patched (2025-09-10 r88807) -- "Great Square Root" 4637
Click on any hostname to see more info about the system (e.g. compilers)      (*) as reported by 'uname -p', except on Windows and Mac OS X

All results for package motifmatchr


To the developers/maintainers of the motifmatchr package:
- Allow up to 24 hours (and sometimes 48 hours) for your latest push to git@git.bioconductor.org:packages/motifmatchr.git to reflect on this report. See Troubleshooting Build Report for more information.
- Use the following Renviron settings to reproduce errors and warnings.
- If 'R CMD check' started to fail recently on the Linux builder(s) over a missing dependency, add the missing dependency to 'Suggests:' in your DESCRIPTION file. See Renviron.bioc for more information.

raw results

Package 1363/2361HostnameOS / ArchINSTALLBUILDCHECKBUILD BIN
motifmatchr 1.32.0  (landing page)
Alicia Schep
Snapshot Date: 2025-10-30 13:45 -0400 (Thu, 30 Oct 2025)
git_url: https://git.bioconductor.org/packages/motifmatchr
git_branch: RELEASE_3_22
git_last_commit: ef46b48
git_last_commit_date: 2025-10-29 10:38:55 -0400 (Wed, 29 Oct 2025)
nebbiolo2Linux (Ubuntu 24.04.3 LTS) / x86_64  OK    OK    OK  UNNEEDED, same version is already published
lconwaymacOS 12.7.6 Monterey / x86_64  OK    OK    OK    OK  UNNEEDED, same version is already published
kjohnson3macOS 13.7.7 Ventura / arm64  OK    OK    OK    OK  UNNEEDED, same version is already published



Results for Bioconductor software packages that depend directly on package motifmatchr

QUICK STATSOS / ArchINSTALLBUILDCHECKBUILD BIN
nebbiolo2Linux (Ubuntu 24.04.3 LTS) / x86_64
006
006
0105
lconwaymacOS 12.7.6 Monterey / x86_64
006
006
0105
006
kjohnson3macOS 13.7.7 Ventura / arm64
006
006
0105
006
Package 1/6HostnameOS / ArchINSTALLBUILDCHECKBUILD BIN
ATACseqTFEA 1.12.0  (landing page)
Jianhong Ou
git_last_commit: 77ec3ae
git_last_commit_date: 2025-10-29 11:18:13 -0400
nebbiolo2Linux (Ubuntu 24.04.3 LTS) / x86_64  OK    OK    OK  UNNEEDED, same version is already published
lconwaymacOS 12.7.6 Monterey / x86_64  OK    OK    OK    OK  UNNEEDED, same version is already published
kjohnson3macOS 13.7.7 Ventura / arm64  OK    OK    OK    OK  UNNEEDED, same version is already published
Package 2/6HostnameOS / ArchINSTALLBUILDCHECKBUILD BIN
enhancerHomologSearch 1.16.0  (landing page)
Jianhong Ou
git_last_commit: a7e3e8d
git_last_commit_date: 2025-10-29 11:11:19 -0400
nebbiolo2Linux (Ubuntu 24.04.3 LTS) / x86_64  OK    OK    OK  UNNEEDED, same version is already published
lconwaymacOS 12.7.6 Monterey / x86_64  OK    OK    OK    OK  UNNEEDED, same version is already published
kjohnson3macOS 13.7.7 Ventura / arm64  OK    OK    OK    OK  UNNEEDED, same version is already published
Package 3/6HostnameOS / ArchINSTALLBUILDCHECKBUILD BIN
epiregulon 2.0.0  (landing page)
Xiaosai Yao
git_last_commit: d431343
git_last_commit_date: 2025-10-29 11:30:12 -0400
nebbiolo2Linux (Ubuntu 24.04.3 LTS) / x86_64  OK    OK    OK  UNNEEDED, same version is already published
lconwaymacOS 12.7.6 Monterey / x86_64  OK    OK    OK    OK  UNNEEDED, same version is already published
kjohnson3macOS 13.7.7 Ventura / arm64  OK    OK    OK    OK  UNNEEDED, same version is already published
Package 4/6HostnameOS / ArchINSTALLBUILDCHECKBUILD BIN
esATAC 1.32.0  (landing page)
Zheng Wei
git_last_commit: 6d7ce39
git_last_commit_date: 2025-10-29 10:42:12 -0400
nebbiolo2Linux (Ubuntu 24.04.3 LTS) / x86_64  OK    OK    OK  UNNEEDED, same version is already published
lconwaymacOS 12.7.6 Monterey / x86_64  OK    OK    OK    OK  UNNEEDED, same version is already published
kjohnson3macOS 13.7.7 Ventura / arm64  OK    OK    OK    OK  UNNEEDED, same version is already published
Package 5/6HostnameOS / ArchINSTALLBUILDCHECKBUILD BIN
pageRank 1.20.0  (landing page)
Hongxu Ding
git_last_commit: 77c4d03
git_last_commit_date: 2025-10-29 11:02:26 -0400
nebbiolo2Linux (Ubuntu 24.04.3 LTS) / x86_64  OK    OK    OK  UNNEEDED, same version is already published
lconwaymacOS 12.7.6 Monterey / x86_64  OK    OK    OK    OK  UNNEEDED, same version is already published
kjohnson3macOS 13.7.7 Ventura / arm64  OK    OK    OK    OK  UNNEEDED, same version is already published
Package 6/6HostnameOS / ArchINSTALLBUILDCHECKBUILD BIN
spatzie 1.16.0  (landing page)
Jennifer Hammelman
git_last_commit: 7892310
git_last_commit_date: 2025-10-29 11:11:08 -0400
nebbiolo2Linux (Ubuntu 24.04.3 LTS) / x86_64  OK    OK    ERROR  
lconwaymacOS 12.7.6 Monterey / x86_64  OK    OK    ERROR    OK  
kjohnson3macOS 13.7.7 Ventura / arm64  OK    OK    ERROR    OK