Package: motifcounter Version: 1.34.0 Command: /home/biocbuild/bbs-3.22-bioc/R/bin/R CMD INSTALL motifcounter StartedAt: 2025-11-06 15:15:52 -0500 (Thu, 06 Nov 2025) EndedAt: 2025-11-06 15:16:04 -0500 (Thu, 06 Nov 2025) EllapsedTime: 12.8 seconds RetCode: 0 Status: OK