Package: motifcounter Version: 1.34.0 Command: /home/biocbuild/bbs-3.22-bioc/R/bin/R CMD build --keep-empty-dirs --no-resave-data --md5 motifcounter StartedAt: 2025-11-06 18:49:32 -0500 (Thu, 06 Nov 2025) EndedAt: 2025-11-06 18:50:30 -0500 (Thu, 06 Nov 2025) EllapsedTime: 58.0 seconds RetCode: 0 Status: OK PackageFile: motifcounter_1.34.0.tar.gz PackageFileSize: 561.2 KiB