Package: motifbreakR Version: 2.24.0 Command: /home/biocbuild/bbs-3.22-bioc/R/bin/R CMD INSTALL motifbreakR StartedAt: 2025-11-11 15:57:50 -0500 (Tue, 11 Nov 2025) EndedAt: 2025-11-11 15:59:04 -0500 (Tue, 11 Nov 2025) EllapsedTime: 74.4 seconds RetCode: 0 Status: OK