Package: motifbreakR Version: 2.24.0 Command: /home/biocbuild/bbs-3.22-bioc/R/bin/R CMD build --keep-empty-dirs --no-resave-data --md5 motifbreakR StartedAt: 2025-11-11 18:55:04 -0500 (Tue, 11 Nov 2025) EndedAt: 2025-11-11 19:01:10 -0500 (Tue, 11 Nov 2025) EllapsedTime: 365.3 seconds RetCode: 0 Status: OK PackageFile: motifbreakR_2.24.0.tar.gz PackageFileSize: 2.304 MiB