Package: motifbreakR Version: 2.24.0 Command: /Library/Frameworks/R.framework/Resources/bin/R CMD INSTALL motifbreakR StartedAt: 2025-11-10 15:28:14 -0500 (Mon, 10 Nov 2025) EndedAt: 2025-11-10 15:28:42 -0500 (Mon, 10 Nov 2025) EllapsedTime: 27.9 seconds RetCode: 0 Status: OK