Package: motifbreakR Version: 2.24.0 Command: /Library/Frameworks/R.framework/Resources/bin/R CMD build --keep-empty-dirs --no-resave-data motifbreakR StartedAt: 2025-11-10 17:06:24 -0500 (Mon, 10 Nov 2025) EndedAt: 2025-11-10 17:08:58 -0500 (Mon, 10 Nov 2025) EllapsedTime: 153.7 seconds RetCode: 0 Status: OK PackageFile: motifbreakR_2.24.0.tar.gz PackageFileSize: 2.49 MiB