Package: motifbreakR Version: 2.24.0 Command: rm -rf motifbreakR.buildbin-libdir && mkdir motifbreakR.buildbin-libdir && /Users/biocbuild/BBS/utils/build-universal.sh motifbreakR_2.24.0.tar.gz /Library/Frameworks/R.framework/Resources/bin/R motifbreakR.buildbin-libdir StartedAt: 2025-11-10 23:27:55 -0500 (Mon, 10 Nov 2025) EndedAt: 2025-11-10 23:28:24 -0500 (Mon, 10 Nov 2025) EllapsedTime: 29.5 seconds RetCode: 0 Status: OK PackageFile: motifbreakR_2.24.0.tgz PackageFileSize: 2.444 MiB