Package: motifTestR Version: 1.6.0 Command: /home/biocbuild/bbs-3.22-bioc/R/bin/R CMD check --install=check:motifTestR.install-out.txt --library=/home/biocbuild/bbs-3.22-bioc/R/site-library --timings motifTestR_1.6.0.tar.gz StartedAt: 2025-11-15 02:03:32 -0500 (Sat, 15 Nov 2025) EndedAt: 2025-11-15 02:07:31 -0500 (Sat, 15 Nov 2025) EllapsedTime: 239.2 seconds RetCode: 0 Status: OK CheckDir: motifTestR.Rcheck Warnings: 0