Package: motifTestR Version: 1.6.0 Command: /home/biocbuild/bbs-3.22-bioc/R/bin/R CMD build --keep-empty-dirs --no-resave-data --md5 motifTestR StartedAt: 2025-11-11 18:56:12 -0500 (Tue, 11 Nov 2025) EndedAt: 2025-11-11 18:57:33 -0500 (Tue, 11 Nov 2025) EllapsedTime: 81.0 seconds RetCode: 0 Status: OK PackageFile: motifTestR_1.6.0.tar.gz PackageFileSize: 1.034 MiB