Package: motifTestR Version: 1.6.0 Command: /Library/Frameworks/R.framework/Resources/bin/R CMD INSTALL motifTestR StartedAt: 2025-10-31 15:33:15 -0400 (Fri, 31 Oct 2025) EndedAt: 2025-10-31 15:33:36 -0400 (Fri, 31 Oct 2025) EllapsedTime: 21.2 seconds RetCode: 0 Status: OK