Package: motifTestR Version: 1.4.1 Command: /home/biocbuild/R/R/bin/R CMD INSTALL motifTestR StartedAt: 2025-10-06 20:36:42 -0000 (Mon, 06 Oct 2025) EndedAt: 2025-10-06 20:37:01 -0000 (Mon, 06 Oct 2025) EllapsedTime: 18.9 seconds RetCode: 0 Status: OK