Package: motifTestR Version: 1.4.1 Command: /home/biocbuild/R/R/bin/R CMD build --keep-empty-dirs --no-resave-data motifTestR StartedAt: 2025-10-07 02:49:23 -0000 (Tue, 07 Oct 2025) EndedAt: 2025-10-07 02:51:09 -0000 (Tue, 07 Oct 2025) EllapsedTime: 106.0 seconds RetCode: 0 Status: OK PackageFile: motifTestR_1.4.1.tar.gz PackageFileSize: 982.7 KiB