Package: motifTestR Version: 1.4.2 Command: rm -rf motifTestR.buildbin-libdir && mkdir motifTestR.buildbin-libdir && /Users/biocbuild/BBS/utils/build-universal.sh motifTestR_1.4.2.tar.gz /Library/Frameworks/R.framework/Resources/bin/R motifTestR.buildbin-libdir StartedAt: 2025-10-15 19:27:32 -0400 (Wed, 15 Oct 2025) EndedAt: 2025-10-15 19:27:52 -0400 (Wed, 15 Oct 2025) EllapsedTime: 19.9 seconds RetCode: 0 Status: OK PackageFile: motifTestR_1.4.2.tgz PackageFileSize: 1.146 MiB