Package: motifStack Version: 1.54.0 Command: /home/biocbuild/R/R/bin/R CMD build --keep-empty-dirs --no-resave-data motifStack StartedAt: 2025-11-11 03:28:26 -0000 (Tue, 11 Nov 2025) EndedAt: 2025-11-11 03:31:24 -0000 (Tue, 11 Nov 2025) EllapsedTime: 178.1 seconds RetCode: 0 Status: OK PackageFile: motifStack_1.54.0.tar.gz PackageFileSize: 1.298 MiB