Package: motifStack Version: 1.54.0 Command: /home/biocbuild/bbs-3.22-bioc/R/bin/R CMD check --install=check:motifStack.install-out.txt --library=/home/biocbuild/bbs-3.22-bioc/R/site-library --timings motifStack_1.54.0.tar.gz StartedAt: 2025-11-12 01:46:36 -0500 (Wed, 12 Nov 2025) EndedAt: 2025-11-12 01:53:23 -0500 (Wed, 12 Nov 2025) EllapsedTime: 406.4 seconds RetCode: 0 Status: OK CheckDir: motifStack.Rcheck Warnings: 0