Package: mosaics Version: 2.48.0 Command: /home/biocbuild/bbs-3.22-bioc/R/bin/R CMD build --keep-empty-dirs --no-resave-data --md5 mosaics StartedAt: 2025-11-20 19:38:02 -0500 (Thu, 20 Nov 2025) EndedAt: 2025-11-20 19:40:22 -0500 (Thu, 20 Nov 2025) EllapsedTime: 140.1 seconds RetCode: 0 Status: OK PackageFile: mosaics_2.48.0.tar.gz PackageFileSize: 2.046 MiB