Package: monocle Version: 2.38.0 Command: /home/biocbuild/bbs-3.22-bioc/R/bin/R CMD INSTALL monocle StartedAt: 2025-11-11 15:18:17 -0500 (Tue, 11 Nov 2025) EndedAt: 2025-11-11 15:18:38 -0500 (Tue, 11 Nov 2025) EllapsedTime: 21.4 seconds RetCode: 0 Status: OK