Package: monocle Version: 2.38.0 Command: /Library/Frameworks/R.framework/Resources/bin/R CMD INSTALL monocle StartedAt: 2025-11-10 15:07:18 -0500 (Mon, 10 Nov 2025) EndedAt: 2025-11-10 15:07:26 -0500 (Mon, 10 Nov 2025) EllapsedTime: 7.9 seconds RetCode: 0 Status: OK