Package: monaLisa Version: 1.16.0 Command: /home/biocbuild/bbs-3.22-bioc/R/bin/R CMD INSTALL monaLisa StartedAt: 2025-11-13 15:53:08 -0500 (Thu, 13 Nov 2025) EndedAt: 2025-11-13 15:53:51 -0500 (Thu, 13 Nov 2025) EllapsedTime: 43.0 seconds RetCode: 0 Status: OK