Package: monaLisa Version: 1.16.0 Command: /home/biocbuild/bbs-3.22-bioc/R/bin/R CMD build --keep-empty-dirs --no-resave-data --md5 monaLisa StartedAt: 2025-11-13 18:51:17 -0500 (Thu, 13 Nov 2025) EndedAt: 2025-11-13 18:55:44 -0500 (Thu, 13 Nov 2025) EllapsedTime: 266.2 seconds RetCode: 0 Status: OK PackageFile: monaLisa_1.16.0.tar.gz PackageFileSize: 5.977 MiB