Package: mobileRNA Version: 1.6.0 Command: /Library/Frameworks/R.framework/Resources/bin/R CMD INSTALL mobileRNA StartedAt: 2025-11-10 15:17:25 -0500 (Mon, 10 Nov 2025) EndedAt: 2025-11-10 15:17:40 -0500 (Mon, 10 Nov 2025) EllapsedTime: 15.2 seconds RetCode: 0 Status: OK