Package: mobileRNA Version: 1.6.0 Command: /Library/Frameworks/R.framework/Resources/bin/R CMD build --keep-empty-dirs --no-resave-data mobileRNA StartedAt: 2025-11-10 17:04:45 -0500 (Mon, 10 Nov 2025) EndedAt: 2025-11-10 17:05:21 -0500 (Mon, 10 Nov 2025) EllapsedTime: 36.4 seconds RetCode: 0 Status: OK PackageFile: mobileRNA_1.6.0.tar.gz PackageFileSize: 3.24 MiB