Package: mobileRNA Version: 1.6.0 Command: rm -rf mobileRNA.buildbin-libdir && mkdir mobileRNA.buildbin-libdir && /Users/biocbuild/BBS/utils/build-universal.sh mobileRNA_1.6.0.tar.gz /Library/Frameworks/R.framework/Resources/bin/R mobileRNA.buildbin-libdir StartedAt: 2025-11-10 23:27:37 -0500 (Mon, 10 Nov 2025) EndedAt: 2025-11-10 23:27:55 -0500 (Mon, 10 Nov 2025) EllapsedTime: 17.3 seconds RetCode: 0 Status: OK PackageFile: mobileRNA_1.6.0.tgz PackageFileSize: 3.373 MiB