Package: moanin Version: 1.18.0 Command: /home/biocbuild/bbs-3.22-bioc/R/bin/R CMD INSTALL moanin StartedAt: 2025-11-11 15:44:33 -0500 (Tue, 11 Nov 2025) EndedAt: 2025-11-11 15:45:08 -0500 (Tue, 11 Nov 2025) EllapsedTime: 35.8 seconds RetCode: 0 Status: OK