Package: mnem Version: 1.26.0 Command: /home/biocbuild/bbs-3.22-bioc/R/bin/R CMD check --install=check:mnem.install-out.txt --library=/home/biocbuild/bbs-3.22-bioc/R/site-library --timings mnem_1.26.0.tar.gz StartedAt: 2025-11-15 01:54:20 -0500 (Sat, 15 Nov 2025) EndedAt: 2025-11-15 01:57:31 -0500 (Sat, 15 Nov 2025) EllapsedTime: 191.1 seconds RetCode: 0 Status: OK CheckDir: mnem.Rcheck Warnings: 0