Package: mnem Version: 1.26.0 Command: /Library/Frameworks/R.framework/Resources/bin/R CMD INSTALL mnem StartedAt: 2025-11-03 15:24:06 -0500 (Mon, 03 Nov 2025) EndedAt: 2025-11-03 15:24:47 -0500 (Mon, 03 Nov 2025) EllapsedTime: 41.1 seconds RetCode: 0 Status: OK