Package: mnem Version: 1.24.0 Command: /home/biocbuild/R/R/bin/R CMD INSTALL mnem StartedAt: 2025-10-13 20:26:44 -0000 (Mon, 13 Oct 2025) EndedAt: 2025-10-13 20:27:31 -0000 (Mon, 13 Oct 2025) EllapsedTime: 47.0 seconds RetCode: 0 Status: OK