Package: mixOmics Version: 6.34.0 Command: /home/biocbuild/bbs-3.22-bioc/R/bin/R CMD INSTALL mixOmics StartedAt: 2025-11-11 15:13:11 -0500 (Tue, 11 Nov 2025) EndedAt: 2025-11-11 15:13:54 -0500 (Tue, 11 Nov 2025) EllapsedTime: 42.4 seconds RetCode: 0 Status: OK