Package: mixOmics Version: 6.32.0 Command: /home/biocbuild/R/R/bin/R CMD build --keep-empty-dirs --no-resave-data mixOmics StartedAt: 2025-10-14 02:35:08 -0000 (Tue, 14 Oct 2025) EndedAt: 2025-10-14 03:06:03 -0000 (Tue, 14 Oct 2025) EllapsedTime: 1855.0 seconds RetCode: 0 Status: OK PackageFile: mixOmics_6.32.0.tar.gz PackageFileSize: 18.15 MiB