Package: mixOmics Version: 6.34.0 Command: /Library/Frameworks/R.framework/Resources/bin/R CMD INSTALL mixOmics StartedAt: 2025-10-30 15:04:59 -0400 (Thu, 30 Oct 2025) EndedAt: 2025-10-30 15:05:11 -0400 (Thu, 30 Oct 2025) EllapsedTime: 12.3 seconds RetCode: 0 Status: OK