Package: mixOmics Version: 6.34.0 Command: /Library/Frameworks/R.framework/Resources/bin/R CMD build --keep-empty-dirs --no-resave-data mixOmics StartedAt: 2025-10-30 17:03:23 -0400 (Thu, 30 Oct 2025) EndedAt: 2025-10-30 17:08:02 -0400 (Thu, 30 Oct 2025) EllapsedTime: 279.1 seconds RetCode: 0 Status: OK PackageFile: mixOmics_6.34.0.tar.gz PackageFileSize: 19.62 MiB