Package: mixOmics Version: 6.34.0 Command: rm -rf mixOmics.buildbin-libdir && mkdir mixOmics.buildbin-libdir && /Users/biocbuild/BBS/utils/build-universal.sh mixOmics_6.34.0.tar.gz /Library/Frameworks/R.framework/Resources/bin/R mixOmics.buildbin-libdir StartedAt: 2025-10-30 23:08:09 -0400 (Thu, 30 Oct 2025) EndedAt: 2025-10-30 23:08:26 -0400 (Thu, 30 Oct 2025) EllapsedTime: 16.5 seconds RetCode: 0 Status: OK PackageFile: mixOmics_6.34.0.tgz PackageFileSize: 19.18 MiB