Back to Multiple platform build/check report for BioC 3.22:   simplified   long
ABCDEFGHIJKL[M]NOPQRSTUVWXYZ

This page was generated on 2025-11-11 12:02 -0500 (Tue, 11 Nov 2025).

HostnameOSArch (*)R versionInstalled pkgs
nebbiolo2Linux (Ubuntu 24.04.3 LTS)x86_644.5.1 Patched (2025-08-23 r88802) -- "Great Square Root" 4902
kjohnson3macOS 13.7.7 Venturaarm644.5.1 Patched (2025-09-10 r88807) -- "Great Square Root" 4638
Click on any hostname to see more info about the system (e.g. compilers)      (*) as reported by 'uname -p', except on Windows and Mac OS X

All results for package mixOmics


To the developers/maintainers of the mixOmics package:
- Allow up to 24 hours (and sometimes 48 hours) for your latest push to git@git.bioconductor.org:packages/mixOmics.git to reflect on this report. See Troubleshooting Build Report for more information.
- Use the following Renviron settings to reproduce errors and warnings.
- If 'R CMD check' started to fail recently on the Linux builder(s) over a missing dependency, add the missing dependency to 'Suggests:' in your DESCRIPTION file. See Renviron.bioc for more information.

raw results

Package 1333/2361HostnameOS / ArchINSTALLBUILDCHECKBUILD BIN
mixOmics 6.34.0  (landing page)
Eva Hamrud
Snapshot Date: 2025-11-10 13:45 -0500 (Mon, 10 Nov 2025)
git_url: https://git.bioconductor.org/packages/mixOmics
git_branch: RELEASE_3_22
git_last_commit: 553e6cc
git_last_commit_date: 2025-10-29 10:48:48 -0500 (Wed, 29 Oct 2025)
nebbiolo2Linux (Ubuntu 24.04.3 LTS) / x86_64  OK    OK    OK  UNNEEDED, same version is already published
kjohnson3macOS 13.7.7 Ventura / arm64  OK    OK    OK    OK  UNNEEDED, same version is already published



Results for Bioconductor software packages that depend directly on package mixOmics

QUICK STATSOS / ArchINSTALLBUILDCHECKBUILD BIN
nebbiolo2Linux (Ubuntu 24.04.3 LTS) / x86_64
007
007
0016
kjohnson3macOS 13.7.7 Ventura / arm64
007
007
0016
007
Package 1/7HostnameOS / ArchINSTALLBUILDCHECKBUILD BIN
AlpsNMR 4.12.0  (landing page)
Sergio Oller Moreno
git_last_commit: a1d41e5
git_last_commit_date: 2025-10-29 11:04:39 -0500
nebbiolo2Linux (Ubuntu 24.04.3 LTS) / x86_64  OK    OK    OK  UNNEEDED, same version is already published
kjohnson3macOS 13.7.7 Ventura / arm64  OK    OK    OK    OK  UNNEEDED, same version is already published
Package 2/7HostnameOS / ArchINSTALLBUILDCHECKBUILD BIN
benchdamic 1.16.0  (landing page)
Matteo Calgaro
git_last_commit: fcdab2a
git_last_commit_date: 2025-10-29 11:13:16 -0500
nebbiolo2Linux (Ubuntu 24.04.3 LTS) / x86_64  OK    OK    OK  NO, package depends on 'Maaslin2' which is not available
kjohnson3macOS 13.7.7 Ventura / arm64  OK    OK    OK    OK  NO, package depends on 'Maaslin2' which is not available
Package 3/7HostnameOS / ArchINSTALLBUILDCHECKBUILD BIN
DepecheR 1.26.0  (landing page)
Jakob Theorell
git_last_commit: 596b81e
git_last_commit_date: 2025-10-29 10:50:39 -0500
nebbiolo2Linux (Ubuntu 24.04.3 LTS) / x86_64  OK    OK    OK  UNNEEDED, same version is already published
kjohnson3macOS 13.7.7 Ventura / arm64  OK    OK    OK    OK  UNNEEDED, same version is already published
Package 4/7HostnameOS / ArchINSTALLBUILDCHECKBUILD BIN
PLSDAbatch 1.6.0  (landing page)
Yiwen (Eva) Wang
git_last_commit: 77783a7
git_last_commit_date: 2025-10-29 11:26:59 -0500
nebbiolo2Linux (Ubuntu 24.04.3 LTS) / x86_64  OK    OK    OK  UNNEEDED, same version is already published
kjohnson3macOS 13.7.7 Ventura / arm64  OK    OK    OK    OK  UNNEEDED, same version is already published
Package 5/7HostnameOS / ArchINSTALLBUILDCHECKBUILD BIN
POMA 1.20.0  (landing page)
Pol Castellano-Escuder
git_last_commit: 49dcbbe
git_last_commit_date: 2025-10-29 11:01:06 -0500
nebbiolo2Linux (Ubuntu 24.04.3 LTS) / x86_64  OK    OK    OK  UNNEEDED, same version is already published
kjohnson3macOS 13.7.7 Ventura / arm64  OK    OK    OK    OK  UNNEEDED, same version is already published
Package 6/7HostnameOS / ArchINSTALLBUILDCHECKBUILD BIN
RFLOMICS 1.2.0  (landing page)
Nadia Bessoltane
git_last_commit: cb2ef8a
git_last_commit_date: 2025-10-29 11:35:35 -0500
nebbiolo2Linux (Ubuntu 24.04.3 LTS) / x86_64  OK    OK    OK  UNNEEDED, same version is already published
kjohnson3macOS 13.7.7 Ventura / arm64  OK    OK    OK    OK  NO, package depends on 'MOFA2' which is only available as a source package that needs compilation
Package 7/7HostnameOS / ArchINSTALLBUILDCHECKBUILD BIN
timeOmics 1.22.0  (landing page)
Antoine Bodein
git_last_commit: 07e290a
git_last_commit_date: 2025-10-29 10:58:20 -0500
nebbiolo2Linux (Ubuntu 24.04.3 LTS) / x86_64  OK    OK    WARNINGS  UNNEEDED, same version is already published
kjohnson3macOS 13.7.7 Ventura / arm64  OK    OK    WARNINGS    OK  UNNEEDED, same version is already published