Package: mitology Version: 1.2.0 Command: /home/biocbuild/bbs-3.22-bioc/R/bin/R CMD INSTALL mitology StartedAt: 2025-11-14 15:52:42 -0500 (Fri, 14 Nov 2025) EndedAt: 2025-11-14 15:53:09 -0500 (Fri, 14 Nov 2025) EllapsedTime: 26.7 seconds RetCode: 0 Status: OK