Package: mitology Version: 1.2.0 Command: /home/biocbuild/bbs-3.22-bioc/R/bin/R CMD build --keep-empty-dirs --no-resave-data --md5 mitology StartedAt: 2025-11-13 18:47:59 -0500 (Thu, 13 Nov 2025) EndedAt: 2025-11-13 18:51:36 -0500 (Thu, 13 Nov 2025) EllapsedTime: 217.2 seconds RetCode: 0 Status: OK PackageFile: mitology_1.2.0.tar.gz PackageFileSize: 4.064 MiB