Package: mitch Version: 1.22.0 Command: /Library/Frameworks/R.framework/Resources/bin/R CMD INSTALL mitch StartedAt: 2025-11-03 15:16:49 -0500 (Mon, 03 Nov 2025) EndedAt: 2025-11-03 15:17:30 -0500 (Mon, 03 Nov 2025) EllapsedTime: 40.5 seconds RetCode: 0 Status: OK