Package: mitch Version: 1.22.0 Command: /Library/Frameworks/R.framework/Resources/bin/R CMD build --keep-empty-dirs --no-resave-data mitch StartedAt: 2025-11-03 17:47:33 -0500 (Mon, 03 Nov 2025) EndedAt: 2025-11-03 17:56:27 -0500 (Mon, 03 Nov 2025) EllapsedTime: 533.9 seconds RetCode: 0 Status: OK PackageFile: mitch_1.22.0.tar.gz PackageFileSize: 1.132 MiB